BEGIN:VCALENDAR
VERSION:2.0
PRODID:-//162.218.117.90//NONSGML kigkonsult.se iCalcreator 2.20//
CALSCALE:GREGORIAN
METHOD:PUBLISH
X-WR-TIMEZONE:Europe/London
BEGIN:VEVENT
UID:event26@Atlantic Radio Uk - Playing The Best Music From Past And Presen
 t
DTSTAMP:20260420T120429Z
CATEGORIES:Music
DESCRIPTION:Holly Johnson\nCategory: Music\nLink: https://atlanticradiouk.c
 o.uk/radio/index.php?option=com_jem&view=event&id=26:holly-johnson\n
DTSTART;VALUE=DATE:20250621
DTEND;VALUE=DATE:20250622
LOCATION:M&S Bank Arena Liverpool‎\,King's Dock\, Port of Liverpool\, 16 Mo
 narchs Quay\,\,L3 4FP Liverpool
SUMMARY:Holly Johnson
URL:https://atlanticradiouk.co.uk/radio/index.php?option=com_jem&view=event
 &id=26:holly-johnson
END:VEVENT
END:VCALENDAR
