BEGIN:VCALENDAR
VERSION:2.0
PRODID:-//162.218.117.90//NONSGML kigkonsult.se iCalcreator 2.20//
CALSCALE:GREGORIAN
METHOD:PUBLISH
X-WR-TIMEZONE:Europe/London
BEGIN:VEVENT
UID:event25@Atlantic Radio Uk - Playing The Best Music From Past And Presen
 t
DTSTAMP:20260420T083316Z
CATEGORIES:Music
DESCRIPTION:Kylie\nCategory: Music\nLink: http://atlanticradiouk.co.uk/radi
 o/index.php?option=com_jem&view=event&id=25:kylie\n
DTSTART;VALUE=DATE:20250522
DTEND;VALUE=DATE:20250523
LOCATION:M&S Bank Arena Liverpool‎\,King's Dock\, Port of Liverpool\, 16 Mo
 narchs Quay\,\,L3 4FP Liverpool
SUMMARY:Kylie
URL:http://atlanticradiouk.co.uk/radio/index.php?option=com_jem&view=event&
 id=25:kylie
END:VEVENT
END:VCALENDAR
